View In:
ArcGIS JavaScript
ArcGIS Online Map Viewer
ArcGIS Earth
Service Description: Imagery/img_Part77_Surface_Raster_wm
Name: Imagery/img_Part77_Surface_Raster_wm
Description:
Single Fused Map Cache: false
Extent:
XMin: -1.35992082819692E7
YMin: 4524985.04966296
XMax: -1.358782416026838E7
YMax: 4536334.25391117
Spatial Reference: 102100
(3857)
VCSWkid(5773)
LatestVCSWkid(5773)
Initial Extent:
XMin: -1.35992082819692E7
YMin: 4524985.04966296
XMax: -1.358782416026838E7
YMax: 4536334.25391117
Spatial Reference: 102100
(3857)
VCSWkid(5773)
LatestVCSWkid(5773)
Full Extent:
XMin: -1.35992082819692E7
YMin: 4524985.04966296
XMax: -1.358782416026838E7
YMax: 4536334.25391117
Spatial Reference: 102100
(3857)
VCSWkid(5773)
LatestVCSWkid(5773)
Pixel Size X: 1.5760932716075653
Pixel Size Y: 1.576935424233766
Band Count: 1
Pixel Type: S32
RasterFunction Infos: {"rasterFunctionInfos": [{
"name": "None",
"description": "",
"help": ""
}]}
Mensuration Capabilities: Basic
Inspection Capabilities:
Has Histograms: true
Has Colormap: false
Has Multi Dimensions : false
Rendering Rule:
Min Scale: 0
Max Scale: 0
Copyright Text:
Service Data Type: esriImageServiceDataTypeGeneric
Min Values: 30
Max Values: 399
Mean Values: 249.15314636941
Standard Deviation Values: 70.656936301472
Object ID Field:
Fields:
None
Default Mosaic Method: Center
Allowed Mosaic Methods:
SortField:
SortValue: null
Mosaic Operator: First
Default Compression Quality: 75
Default Resampling Method: Bilinear
Max Record Count: null
Max Image Height: 4100
Max Image Width: 15000
Max Download Image Count: null
Max Mosaic Image Count: null
Allow Raster Function: true
Allow Copy: true
Allow Analysis: true
Allow Compute TiePoints: false
Supports Statistics: false
Supports Advanced Queries: false
Use StandardizedQueries: true
Raster Type Infos:
Name: Raster Dataset
Description: Supports all ArcGIS Raster Datasets
Help:
Has Raster Attribute Table: false
Edit Fields Info: null
Ownership Based AccessControl For Rasters: null
Child Resources:
Info
Histograms
Statistics
Key Properties
Legend
Raster Function Infos
Supported Operations:
Export Image
Identify
Measure
Compute Histograms
Compute Statistics Histograms
Get Samples
Compute Class Statistics
Query Boundary
Compute Pixel Location
Compute Angles
Validate
Project