{
 "currentVersion": 11.5,
 "serviceDescription": "Imagery/img_Part77_MaxBuildHeight_Raster_wm",
 "serviceItemId": "6b1946efd0cd45208ab4b17970fcd3d2",
 "name": "Imagery/img_Part77_MaxBuildHeight_Raster_wm",
 "description": "",
 "extent": {
  "xmin": -1.359920828312536E7,
  "ymin": 4524983.539835,
  "xmax": -1.358782409407856E7,
  "ymax": 4536334.25276379,
  "spatialReference": {
   "wkid": 102100,
   "latestWkid": 3857,
   "vcsWkid": 5773,
   "latestVcsWkid": 5773
  }
 },
 "initialExtent": {
  "xmin": -1.359920828312536E7,
  "ymin": 4524983.539835,
  "xmax": -1.358782409407856E7,
  "ymax": 4536334.25276379,
  "spatialReference": {
   "wkid": 102100,
   "latestWkid": 3857,
   "vcsWkid": 5773,
   "latestVcsWkid": 5773
  }
 },
 "fullExtent": {
  "xmin": -1.359920828312536E7,
  "ymin": 4524983.539835,
  "xmax": -1.358782409407856E7,
  "ymax": 4536334.25276379,
  "spatialReference": {
   "wkid": 102100,
   "latestWkid": 3857,
   "vcsWkid": 5773,
   "latestVcsWkid": 5773
  }
 },
 "sortableFields": "",
 "heightModelInfo": {
  "heightModel": "gravity_related_height",
  "vertCRS": "EGM96_Geoid",
  "heightUnit": "meter"
 },
 "bandCount": 1,
 "pixelType": "F32",
 "minValues": [
  -109.53317260742
 ],
 "maxValues": [
  399
 ],
 "meanValues": [
  203.97304322555
 ],
 "stdvValues": [
  79.587808136695
 ],
 "serviceProperties": "Center<\/MosaicMethod>First<\/MosaicOperator>true<\/SortAscending><\/LockImageID><\/TileOrderField>0<\/TileOrderBase>0.000000<\/AvgImageSpacingX>0.000000<\/AvgImageSpacingY>0.0<\/ViewPointX>0.0<\/ViewPointY>0.0<\/ViewPointDefShiftX>0.0<\/ViewPointDefShiftY>None<\/CompressionMethod>75<\/CompressionQuality>0.010000<\/CompressionTolerance>Bilinear<\/SamplingMethod><\/ImageServiceProperties><\/ImageServer>",
 "allowedFields": "",
 "hasMultidimensions": false,
 "pixelSizeX": 1.5761025954312802,
 "pixelSizeY": 1.576925941760165,
 "meanPixelSize": 1.5765142685957225,
 "datasetFormat": "MRF",
 "uncompressedSize": 207964616,
 "blockWidth": 128,
 "blockHeight": 128,
 "compressionType": "LERC",
 "bandNames": [
  "Band_1"
 ],
 "allowCopy": true,
 "allowAnalysis": true,
 "itemAccess": false,
 "inspectionCapabilities": "",
 "noDataValue": -255,
 "noDataValues": [
  -255
 ],
 "minPixelSize": 0,
 "maxPixelSize": 0,
 "copyrightText": "",
 "serviceDataType": "esriImageServiceDataTypeGeneric",
 "serviceSourceType": "esriImageServiceSourceTypeDataset",
 "objectIdField": "",
 "fields": [],
 "capabilities": "Image, Metadata, Mensuration",
 "defaultMosaicMethod": "Center",
 "allowedMosaicMethods": "",
 "sortField": "",
 "sortValue": null,
 "sortAscending": true,
 "mosaicOperator": "First",
 "defaultCompressionQuality": 75,
 "defaultResamplingMethod": "Bilinear",
 "maxImageHeight": 4100,
 "maxImageWidth": 15000,
 "allowRasterFunction": true,
 "rasterFunctionInfos": [
  {
   "name": "None",
   "description": "",
   "help": ""
  }
 ],
 "rasterTypeInfos": [
  {
   "name": "Raster Dataset",
   "description": "Supports all ArcGIS Raster Datasets",
   "help": ""
  }
 ],
 "mensurationCapabilities": "Basic",
 "hasHistograms": true,
 "hasColormap": false,
 "hasRasterAttributeTable": false,
 "minScale": 0,
 "maxScale": 0,
 "exportTilesAllowed": false,
 "supportsStatistics": false,
 "supportsAdvancedQueries": false,
 "editFieldsInfo": null,
 "ownershipBasedAccessControlForRasters": null,
 "allowComputeTiePoints": false,
 "useStandardizedQueries": true,
 "advancedQueryCapabilities": {
  "useStandardizedQueries": true,
  "supportsStatistics": false,
  "supportsOrderBy": false,
  "supportsDistinct": false,
  "supportsPagination": false
 },
 "spatialReference": {
  "wkid": 102100,
  "latestWkid": 3857,
  "vcsWkid": 5773,
  "latestVcsWkid": 5773
 }
}
