{
 "currentVersion": 10.81,
 "serviceDescription": "Aerial Photo, 3inch resolution, GCS NAD 1983 (2011)",
 "mapName": "Layers",
 "description": "",
 "copyrightText": "City of Hayward",
 "supportsDynamicLayers": true,
 "layers": [
  {
   "id": 0,
   "name": "raster.SDE.ColorAerial2020",
   "parentLayerId": -1,
   "defaultVisibility": true,
   "subLayerIds": null,
   "minScale": 0,
   "maxScale": 0,
   "type": "Raster Layer"
  }
 ],
 "tables": [],
 "spatialReference": {
  "wkid": 104145,
  "latestWkid": 6318
 },
 "singleFusedMapCache": true,
 "tileInfo": {
  "rows": 256,
  "cols": 256,
  "dpi": 96,
  "format": "MIXED",
  "compressionQuality": 75,
  "origin": {
   "x": -400,
   "y": 399.9999999999998
  },
  "spatialReference": {
   "wkid": 104145,
   "latestWkid": 6318
  },
  "lods": [
   {
    "level": 0,
    "resolution": 5.9486525145757E-4,
    "scale": 250000
   },
   {
    "level": 1,
    "resolution": 2.97432625728785E-4,
    "scale": 125000
   },
   {
    "level": 2,
    "resolution": 1.5228550437313792E-4,
    "scale": 64000
   },
   {
    "level": 3,
    "resolution": 7.614275218656896E-5,
    "scale": 32000
   },
   {
    "level": 4,
    "resolution": 3.807137609328448E-5,
    "scale": 16000
   },
   {
    "level": 5,
    "resolution": 1.903568804664224E-5,
    "scale": 8000
   },
   {
    "level": 6,
    "resolution": 9.51784402332112E-6,
    "scale": 4000
   },
   {
    "level": 7,
    "resolution": 4.75892201166056E-6,
    "scale": 2000
   },
   {
    "level": 8,
    "resolution": 2.37946100583028E-6,
    "scale": 1000
   },
   {
    "level": 9,
    "resolution": 1.18973050291514E-6,
    "scale": 500
   },
   {
    "level": 10,
    "resolution": 5.9486525145757E-7,
    "scale": 250
   },
   {
    "level": 11,
    "resolution": 2.97432625728785E-7,
    "scale": 125
   }
  ]
 },
 "initialExtent": {
  "xmin": -122.14122379473598,
  "ymin": 37.58714887653254,
  "xmax": -122.0091437708936,
  "ymax": 37.734538765614005,
  "spatialReference": {
   "wkid": 104145,
   "latestWkid": 6318
  }
 },
 "fullExtent": {
  "xmin": -122.22262085175832,
  "ymin": 37.54332973846453,
  "xmax": -121.92774671387126,
  "ymax": 37.699473174314456,
  "spatialReference": {
   "wkid": 104145,
   "latestWkid": 6318
  }
 },
 "minScale": 250000,
 "maxScale": 125,
 "minLOD": 0,
 "maxLOD": 10,
 "units": "esriDecimalDegrees",
 "supportedImageFormatTypes": "PNG32,PNG24,PNG,JPG,DIB,TIFF,EMF,PS,PDF,GIF,SVG,SVGZ,BMP",
 "documentInfo": {
  "Title": "",
  "Author": "",
  "Comments": "",
  "Subject": "",
  "Category": "",
  "AntialiasingMode": "None",
  "TextAntialiasingMode": "Force",
  "Keywords": "aerial"
 },
 "capabilities": "Map,Query,Data",
 "supportedQueryFormats": "JSON, geoJSON",
 "exportTilesAllowed": false,
 "referenceScale": 0,
 "supportsDatumTransformation": true,
 "maxRecordCount": 1000,
 "maxImageHeight": 4096,
 "maxImageWidth": 4096,
 "supportedExtensions": ""
}
